BEGIN:VCALENDAR
VERSION:2.0
PRODID:-//The Tri-State Italian-American Congress, formed in 1988, is a non-profit organization whose membership includes individuals active in Italian-American affairs in Tri State Area NY, NJ and CT - ECPv6.15.18//NONSGML v1.0//EN
CALSCALE:GREGORIAN
METHOD:PUBLISH
X-WR-CALNAME:The Tri-State Italian-American Congress, formed in 1988, is a non-profit organization whose membership includes individuals active in Italian-American affairs in Tri State Area NY, NJ and CT
X-ORIGINAL-URL:https://www.trisiac.org
X-WR-CALDESC:Events for The Tri-State Italian-American Congress, formed in 1988, is a non-profit organization whose membership includes individuals active in Italian-American affairs in Tri State Area NY, NJ and CT
REFRESH-INTERVAL;VALUE=DURATION:PT1H
X-Robots-Tag:noindex
X-PUBLISHED-TTL:PT1H
BEGIN:VTIMEZONE
TZID:UTC
BEGIN:STANDARD
TZOFFSETFROM:+0000
TZOFFSETTO:+0000
TZNAME:UTC
DTSTART:20160101T000000
END:STANDARD
END:VTIMEZONE
BEGIN:VEVENT
DTSTART;TZID=UTC:20170524T000000
DTEND;TZID=UTC:20170524T000000
DTSTAMP:20260423T230734
CREATED:20200804T055205Z
LAST-MODIFIED:20200804T055205Z
UID:6576-1495584000-1495584000@www.trisiac.org
SUMMARY:2018 Dinner Reception Photos
DESCRIPTION:Thank you to all of the attendees at our annual dinner on May 24th\, 2018 that made it a great success.
URL:https://www.trisiac.org/event/2018-dinner-reception-photos/
CATEGORIES:Past Events
END:VEVENT
BEGIN:VEVENT
DTSTART;TZID=UTC:20170523T000000
DTEND;TZID=UTC:20170523T000000
DTSTAMP:20260423T230734
CREATED:20200804T054328Z
LAST-MODIFIED:20200804T054428Z
UID:6562-1495497600-1495497600@www.trisiac.org
SUMMARY:2017 Dinner Reception
DESCRIPTION:On Tuesday May\, 23\, 2017\, the Tri-State Italian-American Congress held its Annual Dinner Reception at the Metropolitan Club at One East 60th Street in New York City. \nThe distinguished honoree was Bob Striano. \n \nMr. Striano is the President and CEO of Associated Supermarket Group (ASG)\, a consortium that serves over 300 independently owned supermarkets in the New York Tri-State Area and other cities along the U.S. Eastern Seaboard\, providing procurement\, distribution\, marketing\, merchandising\, advertising\, promotion and other retail solutions\, as well as store financing. \nHis Eminence Timothy Cardinal Dolan\, Archbishop of New York was our Honored Guest. \nBenediction was by Most Reverend Nicholas DiMarzio\, Bishop\, Diocese of Brooklyn & Queens.
URL:https://www.trisiac.org/event/2017-dinner-reception/
CATEGORIES:Past Events
END:VEVENT
END:VCALENDAR