BEGIN:VCALENDAR
VERSION:2.0
PRODID:-//The Tri-State Italian-American Congress, formed in 1988, is a non-profit organization whose membership includes individuals active in Italian-American affairs in Tri State Area NY, NJ and CT - ECPv6.15.18//NONSGML v1.0//EN
CALSCALE:GREGORIAN
METHOD:PUBLISH
X-ORIGINAL-URL:https://www.trisiac.org
X-WR-CALDESC:Events for The Tri-State Italian-American Congress, formed in 1988, is a non-profit organization whose membership includes individuals active in Italian-American affairs in Tri State Area NY, NJ and CT
REFRESH-INTERVAL;VALUE=DURATION:PT1H
X-Robots-Tag:noindex
X-PUBLISHED-TTL:PT1H
BEGIN:VTIMEZONE
TZID:UTC
BEGIN:STANDARD
TZOFFSETFROM:+0000
TZOFFSETTO:+0000
TZNAME:UTC
DTSTART:20190101T000000
END:STANDARD
END:VTIMEZONE
BEGIN:VEVENT
DTSTART;TZID=UTC:20230606T183000
DTEND;TZID=UTC:20230606T223000
DTSTAMP:20260423T220907
CREATED:20230408T152054Z
LAST-MODIFIED:20230518T182041Z
UID:7781-1686076200-1686090600@www.trisiac.org
SUMMARY:Tri-State Italian-American Congress Annual Dinner Reception 2023
DESCRIPTION:Tuesday\, June 6\, 2023 \nTri-State Italian-American Congress Annual Dinner Reception \n6:30 pm Cocktails \n7:30 pm Program and Dinner \nMetropolitan Club \nOne East 60th Street (Between 5th Ave. and Madison)\, New York\, New York \nHonoring\nJohn & Margo Catsimatidis \nDear Friends and Supporters \nPlease see attach the pdf invitation \nBuy online ticket – $6\,000 Dinner for 10 – includes black & white full page \nIf you wish to buy individually\, Buy online ticket – $600 per Person \nSorry\, I am unable to attend\, but I am pleased to enclose my tax-deductible contribution \nPlease RSVP by May 23\, 2023 \nDinner Reservations (PDF) \nVideo Journal Advertisemen (PDF)t \n■ Buy online – GOLD PAGE $2\,500 \n■ Buy online – SILVER PAGE $1\,500 \n■ Buy online – FULL PAGE $1\,000 \n■ Buy online – HALF PAGE $600 \nAD COPY DEADLINES: 5/23/23 \nSubmit Camera ready or electronic file artwork online or to raccpa1021@aol.com \nThe Donation portion of each ticket is deductible for income tax purposes to the extent provided by law\, is $300.
URL:https://www.trisiac.org/event/tri-state-italian-american-congress-annual-dinner-reception-2023/
LOCATION:Metropolitan Club\, One East 60th Street\, New York\, NY\, 10022\, United States
CATEGORIES:Upcoming Events
END:VEVENT
BEGIN:VEVENT
DTSTART;TZID=UTC:20210928T000000
DTEND;TZID=UTC:20210928T000000
DTSTAMP:20260423T220907
CREATED:20210611T092451Z
LAST-MODIFIED:20210612T070308Z
UID:7111-1632787200-1632787200@www.trisiac.org
SUMMARY:Annual Golf Outing – Tuesday\, September 28nd\, 2021
DESCRIPTION:TRI-STATE ITALIAN-AMERICAN CONGRESS \n2021 Golf Outing\nENGINEERS COUNTRY CLUB & GLEN HEAD COUNTRY CLUB SEPTEMBER 28\, 2021 \nENGINEERS COUNTRY CLUB The 18-hole “Engineers” course at the Engineers Country Club facility in Roslyn\, New York features 6\,656 yards of golf from the longest tees for a par of 70. THe course rating is 71.9 and it has a slope rating of 128 on Blue grass. The Engineers golf course opened in 1917 and was site of the 1919 PGA Championships and 1920 USGA Amateur Championships. \nGLEN HEAD COUNTRY CLUBThe 18-hole “Glen Head” course at the Glen Head Country Club facility in Glen Heead\, New York features 6\,506 yards of golf from the longest tees for a par of 71. The course rating is 71\,7 and it has a slope rating of 129 on Bent grass. The Glen Head golf course opened in 1942 \n  \nOUR MISSION STATEMENT The Tri-State Italian-American Congress\, formed in 1988\, is a non-profit organization whose membership includes individuals active in Italian-American affairs in the tri-state area. Its pupose is to provide educational opportunities for Italian-American children\, to support organizations and charities benefiting Italian-Americans and to support other programs and individuals with similar goals. \nSince its inception\, the congress has provided scholarships for qualified students\, has responded through the media to anti-Italian-American bias and has provided grants to other organizations for scholarships and Italian Studies Programs \n  \nPlease Give us our club of choice to play\,It will be accommodated on a first come\, first serve basic Please check one\,Engineers CC or Glen Head CCThe clubs are 2 1/2 miles apart. You will be notified to the email provided which course you will be assigned in advance. \nCheck-in and Breakfast starts at 9:20am at Engineers CC Format Scramble – Shotgun Start is 11:30 am at Engineers CC or Glen Head Cocktails Reception at 5:00pm at Engineers CC Dress Code – Country Club Casual \n  \nSPONSORSHIP OPPORTUNITIES \nPlatinum Sponsor $7\,900\n\nOne Platinum Hole Sponsorship Sign displaying name at 1st tee\nTwo Corporate Foursomes\nDistribution of Company Souvenirs\nCorporate Banner Recognition\nRecognition at the Awards Reception\n4 additional attendees to reception\n\nGold Sponsor $6\,500\n\nOne Gold Hole Sponsorship Sign displaying name at 1st tee\nTwo Corporate Foursomes\nDistribution of Company Souvenirs\nCorporate Banner Recognition\nRecognition at the Awards Reception\n\nSilver Sponsor $5000\n\nOne Silver Hole Sponsorship Sign displaying name\nOne Corporate Foursomes\nDistribution of Company Souvenirs\nCorporate Banner Recognition\nRecognition at the Awards Reception\n\nBroze Sponsor $4000\n\nOne Hole Sponsorship Sign\nOne Foursomes\nDistribution of Company Souvenirs\nRecognition at the Awards Reception\n\nPatron Sponsor $3500\n\nOne Foursomes\nOne Tee Sign\nDistribution of Company Souvenirs\n\nGold Hole Sponsor Sign $1000\nSilver Hole Sponsor Sign $500\nTee-Sign $300\nSingle Golfer $1000\nReception Only $200\n  \nTRI-STATE ITALIAN-AMERICAN CONGRESS GOLF COMMITTEE \nLouis Vele – Honorary ChairmanRichard DeSimone – Honorary ChairmanPhilip Del Prete – Co-ChairmanJoe Garcia – Co-ChairmanLawrence R.Inserra\,Jr. – Co-ChairmanThomas Barresi – Co-Chairman \n  \n\n\n\nAnthony Bertrami\nRalph Mattucci\n\n\nJohn Borzumato\nDino Puccio\n\n\nVincent P. Brana\nEdward P. Salzano\n\n\nRalph A. Contini\nLouis Scagnelli\n\n\nPeter Cerrito\nKen Scher\n\n\nFrank DeCicco\nAngelo Tigri\n\n\nBill Fani\nSteve Vasilikos\n\n\nGeorge Grelo\n \n\n\n\nTRI-STATE ITALIAN-AMERICAN CONGRESSPresident Emeritus: In Memoriam Hon. Louis Fusco\, Jr. \nPresident: Louis Vele \nVice President:Richard DeSimone \nTreasurer/Executive Director:Ralph A. Contini\, CPA \nSecretary:Anthony Bertrami \nChairman of the Board:Philip Del Prete \nBoard of Directors:Thomas BarresiHon. Jhon A. BaroneVincent P. BranaRobert ErricoWilliam FaniGeorge GrecoLawrence R. Inserra\, Jr.Edward P. SalzanoAngelo TigriSteve Vasilikos \nAPPLY SPONSORSHIP
URL:https://www.trisiac.org/event/annual-golf-outing-tuesday-september-28nd-2021/
LOCATION:NY
CATEGORIES:Upcoming Events
END:VEVENT
BEGIN:VEVENT
DTSTART;TZID=UTC:20200617T000000
DTEND;TZID=UTC:20200617T000000
DTSTAMP:20260423T220907
CREATED:20200804T060130Z
LAST-MODIFIED:20200804T060130Z
UID:6619-1592352000-1592352000@www.trisiac.org
SUMMARY:Drawing for Perillo Tours “Three Crowns of Italy” Trip – Wednesday\, June\, 17th\, 2020
DESCRIPTION:
URL:https://www.trisiac.org/event/drawing-for-perillo-tours-three-crowns-of-italy-trip-wednesday-june-17th-2020/
LOCATION:NY
CATEGORIES:Upcoming Events
END:VEVENT
BEGIN:VEVENT
DTSTART;TZID=UTC:20200617T000000
DTEND;TZID=UTC:20200617T000000
DTSTAMP:20260423T220907
CREATED:20200804T060059Z
LAST-MODIFIED:20210625T155517Z
UID:6616-1592352000-1592352000@www.trisiac.org
SUMMARY:Annual Dinner – Wednesday\, June 17th\, 2020 (CANCELLED)
DESCRIPTION:
URL:https://www.trisiac.org/event/annual-dinner-wednesday-june-17th-2020/
LOCATION:NY
CATEGORIES:Upcoming Events
END:VEVENT
BEGIN:VEVENT
DTSTART;TZID=UTC:20200502T000000
DTEND;TZID=UTC:20200502T000000
DTSTAMP:20260423T220907
CREATED:20200804T055830Z
LAST-MODIFIED:20200804T055911Z
UID:6611-1588377600-1588377600@www.trisiac.org
SUMMARY:Diocese of Rockville Centre Scholarships – Saturday\, May 2nd\, 2020
DESCRIPTION:
URL:https://www.trisiac.org/event/archdiocese-of-newark-scholarships-tuesday-april-28th-2020/
LOCATION:NY
CATEGORIES:Upcoming Events
END:VEVENT
BEGIN:VEVENT
DTSTART;TZID=UTC:20200428T000000
DTEND;TZID=UTC:20200428T000000
DTSTAMP:20260423T220907
CREATED:20200804T060015Z
LAST-MODIFIED:20200804T060015Z
UID:6614-1588032000-1588032000@www.trisiac.org
SUMMARY:Archdiocese of Newark Scholarships – Tuesday\, April 28th\, 2020
DESCRIPTION:
URL:https://www.trisiac.org/event/archdiocese-of-newark-scholarships-tuesday-april-28th-2020-2/
LOCATION:NY
CATEGORIES:Upcoming Events
END:VEVENT
BEGIN:VEVENT
DTSTART;TZID=UTC:20200316T000000
DTEND;TZID=UTC:20200316T000000
DTSTAMP:20260423T220907
CREATED:20200804T055755Z
LAST-MODIFIED:20200804T055755Z
UID:6609-1584316800-1584316800@www.trisiac.org
SUMMARY:Diocese of Brooklyn & Queens Scholarships – Monday\, March 16th\, 2020
DESCRIPTION:
URL:https://www.trisiac.org/event/diocese-of-brooklyn-queens-scholarships-monday-march-16th-2020/
LOCATION:NY
CATEGORIES:Upcoming Events
END:VEVENT
END:VCALENDAR